Workbook

Sheet Rechnung
A7: Rechnung Privatpersonen
A8: Bitte nur die hell hinterlegten Felder ausfüllen – alle Mengen und Beträge kommen automatisch aus dem Blatt «Detailrapport».
A10: Auftrag
A11: Fachrichtung: | E11: Ressortleitung:
A12: Ressort: | E12: Kurs / Anlass:
A14: Rechnungssteller/in
A15: Name, Vorname: | E15: Telefon:
A16: Adresse: | E16: E-Mail:
A17: PLZ / Ort: | E17: AHV-Nr.:
A18: Geburtsdatum:
A20: Zahlungsverbindung
A21: Kontoinhaber/in: | E21: Name Bank:
A22: IBAN-Nr.: | E22: Bemerkung:
A24: Rechnung für geleistete Arbeiten
A25: Abrechnungsperiode von: | E25: bis:
A28: Position | D28: Menge | E28: Einheit | F28: Ansatz Fr. | G28: Betrag Fr. | H28: Total Fr.
A29: 1. Arbeit (Honorare; Fahrzeiten gelten nicht als Arbeitszeit, ausgenommen Ortswechsel während Auftrag)
A30: Aufwand / Honorar | D30: =SUM(Detailrapport!$G$12:$G$33) -> 0 | E30: Std. | F30: =Parameter!$B$5 -> 60 | G30: =D30*F30 -> 0
A31: ÜK (Tagespauschale) | D31: =SUM(Detailrapport!$G$37:$G$39) -> 0 | E31: Tage | F31: =Parameter!$B$6 -> 600 | G31: =D31*F31 -> 0 | H31: =SUM(G30:G31) -> 0
A32: 2. Abzüge
A33: AHV-Abzug (fixer Abzug auf dem Honorartotal) | F33: =Parameter!$B$10 -> 0.064 | G33: =-H31*F33 -> 0 | H33: =G33 -> 0
A34: 3. Kopien (mit Belegen, inkl. MwSt.)
A35: Fotokopien / Ausdrucke A4 | D35: =SUM(Detailrapport!$E$43:$E$46) -> 0 | E35: Stk. | F35: =Parameter!$B$7 -> 0.25 | G35: =D35*F35 -> 0
A36: Fotokopien / Ausdrucke A3 | D36: =SUM(Detailrapport!$F$43:$F$46) -> 0 | E36: Stk. | F36: =Parameter!$B$8 -> 0.6 | G36: =D36*F36 -> 0
A37: Andere Kopien / Plots (effektiv) | G37: =SUM(Detailrapport!$G$43:$G$46) -> 0 | H37: =SUM(G35:G37) -> 0
A38: 4. Spesen (mit Belegen, inkl. MwSt.)
A39: Autospesen | D39: =SUMIFS(Detailrapport!$F$50:$F$55,Detailrapport!$D$50:$D$55,Parameter!$E$15) -> 0 | E39: km | F39: =Parameter!$B$9 -> 0.7 | G39: =D39*F39 -> 0
A40: Reisespesen ÖV 2. Klasse (effektiv) | G40: =SUMIFS(Detailrapport!$G$50:$G$55,Detailrapport!$D$50:$D$55,Parameter!$E$16) -> 0
A41: Porto- und Telefonspesen (effektiv) | G41: =SUMIFS(Detailrapport!$G$50:$G$55,Detailrapport!$D$50:$D$55,Parameter!$E$17) -> 0
A42: Übrige Spesen (effektiv) | G42: =SUMIFS(Detailrapport!$G$50:$G$55,Detailrapport!$D$50:$D$55,Parameter!$E$18) -> 0 | H42: =SUM(G39:G42) -> 0
A43: 5. Übriges (inkl. MwSt.)
A44: Übriges (effektiv) | G44: =SUM(Detailrapport!$G$59:$G$60) -> 0 | H44: =G44 -> 0
A45: GESAMTTOTAL | G45: Fr. | H45: =H31+H33+H37+H42+H44 -> 0
A47: Visum Rechnungssteller/in | D47: Visum Ressortleitung | G47: Visum Vorstand
D48: (bei Ressortleitung: Visum Vorstand)
A51: «effektiv» = nach effektivem Rechnungsbetrag, nur mit Beleg.
A52: Detailrapport und Belege nicht vergessen! Bei mangelhaften Angaben wird die Rechnung zurückgewiesen.

Sheet Detailrapport
A7: Detailrapport
A8: Nur die hell hinterlegten Felder ausfüllen. Die Totale je Thema fliessen direkt ins Blatt «Rechnung».
A10: 1. Arbeit – Aufwand (Honorar) | G10: Total Fr. | H10: =SUM(H12:H33) -> 0
A11: Datum | B11: Tätigkeit | G11: Stunden | H11: Betrag Fr.
H12: =IF($G12="","",$G12*Parameter!$B$5)
H13: =IF($G13="","",$G13*Parameter!$B$5)
H14: =IF($G14="","",$G14*Parameter!$B$5)
H15: =IF($G15="","",$G15*Parameter!$B$5)
H16: =IF($G16="","",$G16*Parameter!$B$5)
H17: =IF($G17="","",$G17*Parameter!$B$5)
H18: =IF($G18="","",$G18*Parameter!$B$5)
H19: =IF($G19="","",$G19*Parameter!$B$5)
H20: =IF($G20="","",$G20*Parameter!$B$5)
H21: =IF($G21="","",$G21*Parameter!$B$5)
H22: =IF($G22="","",$G22*Parameter!$B$5)
H23: =IF($G23="","",$G23*Parameter!$B$5)
... H33: =IF($G33="","",$G33*Parameter!$B$5)
A35: 2. ÜK – Tagespauschalen | G35: Total Fr. | H35: =SUM(H37:H39) -> 0
A36: Datum | B36: Kurs / Funktion | G36: Tage | H36: Betrag Fr.
H37: =IF($G37="","",$G37*Parameter!$B$6)
H38: =IF($G38="","",$G38*Parameter!$B$6)
H39: =IF($G39="","",$G39*Parameter!$B$6)
A41: 3. Kopien (mit Belegen, inkl. MwSt.; Plotkosten gemäss Tarif örtlicher Plotcenter) | G41: Total Fr. | H41: =SUM(H43:H46) -> 0
A42: Datum | B42: Beschreibung | E42: A4 Stk. | F42: A3 Stk. | G42: Andere Fr. | H42: Betrag Fr.
H43: =IF(COUNT($E43:$G43)=0,"",$E43*Parameter!$B$7+$F43*Parameter!$B$8+$G43)
H44: =IF(COUNT($E44:$G44)=0,"",$E44*Parameter!$B$7+$F44*Parameter!$B$8+$G44)
H45: =IF(COUNT($E45:$G45)=0,"",$E45*Parameter!$B$7+$F45*Parameter!$B$8+$G45)
H46: =IF(COUNT($E46:$G46)=0,"",$E46*Parameter!$B$7+$F46*Parameter!$B$8+$G46)
A48: 4. Spesen (mit Belegen, inkl. MwSt.) | G48: Total Fr. | H48: =SUM(H50:H55) -> 0
A49: Datum | B49: Beschreibung | D49: Spesenart (Auswahl) | F49: km | G49: Betrag Fr. | H49: Total Fr.
H50: =IF($D50="","",IF($D50=Parameter!$E$15,$F50*Parameter!$B$9,$G50))
H51: =IF($D51="","",IF($D51=Parameter!$E$15,$F51*Parameter!$B$9,$G51))
H52: =IF($D52="","",IF($D52=Parameter!$E$15,$F52*Parameter!$B$9,$G52))
H53: =IF($D53="","",IF($D53=Parameter!$E$15,$F53*Parameter!$B$9,$G53))
H54: =IF($D54="","",IF($D54=Parameter!$E$15,$F54*Parameter!$B$9,$G54))
H55: =IF($D55="","",IF($D55=Parameter!$E$15,$F55*Parameter!$B$9,$G55))
A57: 5. Übriges (inkl. MwSt.) | G57: Total Fr. | H57: =SUM(H59:H60) -> 0
A58: Datum | B58: Beschreibung | G58: Betrag Fr. | H58: Total Fr.
H59: =IF($G59="","",$G59)
H60: =IF($G60="","",$G60)
...

Sheet Spesenreglement
A7: Spesenreglement
A8: Verein Z+ – Berufsbildung Zeichner:innen Architektur + Ingenieurbau Aargau
B10: Für die Arbeit des Vorstandes bzw. für Arbeitsaufträge, die durch den Verein Z+ gemäss Beschluss und Budget des Vorstandes erteilt werden, leistet die Vereinskasse die nachfolgenden Vergütungen. Das Reglement gilt für die Ressorts ÜK, Information und Vorstandsarbeit.
A12: 1 Honoraransätze
B13: Position | C13: Basis | D13: Ansatz Fr.
B14: Organe / Expert:innen / Mitarbeitende | C14: nach Aufwand, per Std. | D14: =Parameter!$B$5 -> 60
B15: ÜK ZFA / ZFI | C15: Pauschale pro Kurstag | D15: =Parameter!$B$6 -> 600
A16: 1.1 | B16: Das Qualifikationsverfahren (QV) wird nicht über die Vereinskasse abgerechnet. Honorare und Spesen für Einsätze im QV werden direkt mit dem Kanton (DBKS) abgerechnet; dieses Reglement findet darauf keine Anwendung.
A18: 2 Spesenansätze
B19: Die Spesenansätze gelten einheitlich für alle Ressorts. Spesen werden nach Aufwand zu Selbstkosten vergütet.
B20: Position | C20: Basis | D20: Ansatz Fr.
B21: Fahrspesen öffentlicher Verkehr | C21: nach Aufwand, SBB 2. Klasse | D21: effektiv
B22: Autokilometer (inkl. Nebenkosten) | C22: per km | D22: =Parameter!$B$9 -> 0.7
B23: Porti und Telefon | C23: nach Aufwand | D23: effektiv
B24: Kopien / Ausdrucke A4 | C24: per Stk., bis 100 Stück | D24: =Parameter!$B$7 -> 0.25
B25: Kopien / Ausdrucke A3 | C25: per Stk., bis 100 Stück | D25: =Parameter!$B$8 -> 0.6
A26: 2.1 | B26: Ab 100 Kopien gelten die Tarife der Berufsschule Aarau. Plotkosten richten sich nach den Tarifen des örtlichen Plotcenters.
A27: 2.2 | B27: Plot- und Kopieraufträge müssen einem Plotcenter in Auftrag gegeben werden.
A28: 2.3 | B28: Sämtliche Verpflegungen sind in den Ansätzen inbegriffen.
A29: 2.4 | B29: Weitere Entschädigungen, welche in diesem Reglement nicht aufgeführt sind, werden nicht vergütet.
A31: 3 Umfang der ÜK-Tagespauschale
A32: 3.1 | B32: Mit der Tagespauschale abgegolten sind der Kurstag selbst, die individuelle Vor- und Nachbereitung der eigenen Kurstätigkeit sowie die persönlichen Spesen an den Kurstagen (Verpflegung und Fahrspesen).
A33: 3.2 | B33: Nicht mit der Tagespauschale abgegolten und nach Aufwand abzurechnen sind Kursorganisation und Kursleitung – namentlich Gruppeneinteilung, Raumreservation, Kursleitungssitzungen, Protokollführung, Vorbereitungstreffen ÜK und Abrechnung.
A34: 3.3 | B34: Sachaufwand, der für den Kurs entsteht (Kursmaterial, Drittkosten), gilt nicht als persönliche Spese und wird gegen Beleg zusätzlich vergütet.
A35: 3.4 | B35: Bei einem Einsatz ab 6 Stunden kann die Tagespauschale abgerechnet werden.
A37: 4 Arbeitsort, Fahrzeit und Fahrspesen
A38: 4.1 | B38: Aarau gilt als Arbeitsort. Fahrten an den Arbeitsort werden nicht vergütet – weder Fahrzeit noch Kilometer.
A39: 4.2 | B39: Ab Aarau werden sowohl die Fahrzeit als auch die Fahrspesen entschädigt.
A40: 4.3 | B40: Für Fahrspesen ab Aarau ist kein Beleg beizulegen.
A42: 5 Detailrapport und Belege
A43: 5.1 | B43: Der Detailrapport ist wahrheitsgetreu auszufüllen.
A44: 5.2 | B44: Sämtliche Ausgaben sind mittels Belegen nachzuweisen. Ausgenommen sind die Fahrspesen nach Ziffer 4.3.
A45: 5.3 | B45: Drittrechnungen und weitere Spesen können ohne Beleg nicht in Rechnung gestellt werden und werden dementsprechend nicht vergütet.
A47: 6 Bewilligungen und Abweichungen
A48: 6.1 | B48: Einmalige Ausgaben über 500.00 Fr. müssen dem Vorstand vorgängig zur Bewilligung vorgelegt werden.
A49: 6.2 | B49: Beträgt das Jahreshonorar weniger als 10’000.00 Fr. und weicht es um mehr als 10 % vom Vorjahr ab, ist mit der Abrechnung eine kurze Begründung abzugeben.
A50: 6.3 | B50: Beträgt das Jahreshonorar mehr als 10’000.00 Fr. und weicht es um mehr als 5 % vom Vorjahr ab, ist mit der Abrechnung eine kurze Begründung abzugeben.
A52: 7 Sozialversicherungsabzug
A53: 7.1 | B53: Auf dem Honorartotal – Stundenhonorare und Tagespauschalen – wird ein fixer AHV-Abzug von 6.400 % vorgenommen.
A54: 7.2 | B54: Spesen und Auslagenersatz unterliegen keinem Abzug.
...

Sheet Parameter
A1: Parameter – Ansätze und Auswahllisten
A2: Nur die grün hinterlegten Felder anpassen (z. B. bei einer Tarifanpassung). Die Bezeichnungen in den Auswahllisten dürfen nicht verändert werden – sie sind mit den Formeln verknüpft.
A4: Ansätze | B4: Wert
A5: Honorar Aufwand [Fr. / Std.] | B5: 60
A6: ÜK-Tagespauschale [Fr. / Tag] | B6: 600
A7: Fotokopien / Ausdrucke A4 [Fr. / Stk.] | B7: 0.25
A8: Fotokopien / Ausdrucke A3 [Fr. / Stk.] | B8: 0.6
A9: Autospesen [Fr. / km] | B9: 0.7
A10: AHV-Abzug (fixer Abzug auf Honorartotal) [%] | B10: 0.064
A14: Fachrichtung | C14: Ressort | E14: Spesenart
A15: ZFA – Architektur | C15: ÜK | E15: Autospesen (km)
A16: ZFI – Ingenieurbau | C16: Information | E16: Reisespesen ÖV 2. Klasse
A17: ZFA + ZFI | C17: Vorstandsarbeit | E17: Porto / Telefon
E18: Übrige Spesen
A20: Quelle der Ansätze: bestehendes Abrechnungsformular LVBP Aargau 2025. Die Pauschale «Arbeitssitzung» wurde per Überarbeitung 2026 aufgehoben. Das QV wird nicht über die Vereinskasse abgerechnet.
A21: Farben und Typografie gemäss Z+ Design Manual, Version 1, Juli 2026 (anthrazit 384649, gelbgrün C7CC10, Arial).
